BEGIN:VCALENDAR
VERSION:2.0
PRODID:-//Deutsch-Japanischer Stammtisch - ECPv6.15.18//NONSGML v1.0//EN
CALSCALE:GREGORIAN
METHOD:PUBLISH
X-WR-CALNAME:Deutsch-Japanischer Stammtisch
X-ORIGINAL-URL:https://www.japan-stammtisch.de
X-WR-CALDESC:Veranstaltungen für Deutsch-Japanischer Stammtisch
REFRESH-INTERVAL;VALUE=DURATION:PT1H
X-Robots-Tag:noindex
X-PUBLISHED-TTL:PT1H
BEGIN:VTIMEZONE
TZID:Europe/Berlin
BEGIN:DAYLIGHT
TZOFFSETFROM:+0100
TZOFFSETTO:+0200
TZNAME:CEST
DTSTART:20250330T010000
END:DAYLIGHT
BEGIN:STANDARD
TZOFFSETFROM:+0200
TZOFFSETTO:+0100
TZNAME:CET
DTSTART:20251026T010000
END:STANDARD
BEGIN:DAYLIGHT
TZOFFSETFROM:+0100
TZOFFSETTO:+0200
TZNAME:CEST
DTSTART:20260329T010000
END:DAYLIGHT
BEGIN:STANDARD
TZOFFSETFROM:+0200
TZOFFSETTO:+0100
TZNAME:CET
DTSTART:20261025T010000
END:STANDARD
BEGIN:DAYLIGHT
TZOFFSETFROM:+0100
TZOFFSETTO:+0200
TZNAME:CEST
DTSTART:20270328T010000
END:DAYLIGHT
BEGIN:STANDARD
TZOFFSETFROM:+0200
TZOFFSETTO:+0100
TZNAME:CET
DTSTART:20271031T010000
END:STANDARD
END:VTIMEZONE
BEGIN:VEVENT
DTSTART;VALUE=DATE:20260417
DTEND;VALUE=DATE:20260725
DTSTAMP:20260425T130109
CREATED:20260112T161414Z
LAST-MODIFIED:20260224T183718Z
UID:4458-1776384000-1784937599@www.japan-stammtisch.de
SUMMARY:Sprachkurs: Japanisch Anfänger-Kurs mit Mizuki
DESCRIPTION:Japanisch lernen mit Mizuki aus Japan\, Mizuki kommt aus Osaka und lebt in München mit Ihrer Familie und kennt die japanische und die deutsche Kultur und kann Euch so schnell und einfach Japanisch und die japanische Kultur lehren. \nKursinhalte\n Einfache Vorkenntnisse hilfreich aber nicht erforderlich.\n Lehrmaterial: Kein festes Lehrbuch – der Fokus liegt auf dem Kennenlernen der japanischen Kultur und grundlegender Grammatik (z. B. sich vorstellen können)\n Aktivitäten: Gelegentlich gemeinsames Kochen japanischer Gerichte\n Zusätzlicher Kurs: Einmal pro Monat findet ein Wasser-Kalligraphie-Kurs von 19:40 bis 20:00 Uhr statt (Kosten: 10 €) \nTermine (2 × pro Monat)\n April bis Juli\, 2x pro Monat (jeweils Freitags)\n Uhrzeit: 18:15 – 19:30 \nOrganisatorisches\n Maximal 8 Teilnehmer – persönliches Lernumfeld.\n Kosten: 120 Euro \nAnmeldungen unter:  mi_pink0202@yahoo.co.jp oder per  WhatsApp 0172 3229619
URL:https://www.japan-stammtisch.de/veranstaltung/sprachkurs-japanisch-anfaenger-kurs-mit-mizuki/
LOCATION:Familienzentrum Pasing\, Josef-Lang-Straße 23\, München\, 81245
ATTACH;FMTTYPE=image/jpeg:https://www.japan-stammtisch.de/wp-content/uploads/japanisch-mit-mizuki.jpeg
END:VEVENT
BEGIN:VEVENT
DTSTART;VALUE=DATE:20260421
DTEND;VALUE=DATE:20260805
DTSTAMP:20260425T130109
CREATED:20250617T160857Z
LAST-MODIFIED:20260224T184903Z
UID:4160-1776729600-1785887999@www.japan-stammtisch.de
SUMMARY:Online Japanisch Anfänger-Kurs mit Mizuki
DESCRIPTION:Japanisch lernen mit Mizuki aus Japan\, Mizuki kommt aus Osaka und lebt in München mit Ihrer Familie und kennt die japanische und die deutsche Kultur und kann Euch so schnell und einfach Japanisch und die japanische Kultur lehren. \nKursinhalte\n Einsteigerfreundlicher Einstieg – keine Vorkenntnisse erforderlich.\n Lehrmaterial: Kein festes Lehrbuch – der Fokus liegt auf dem Kennenlernen der japanischen Kultur und grundlegender Grammatik (z. B. sich vorstellen können)\n Aktivitäten:Origami / Basteln / Japanische Kultur kennenlernen \nTermine (2 × pro Monat)\n 21. April / 6. + 19. Mai / 9. + 23. Juni / 7. + 21. Juli / 4. August (jeweils Dienstags)\n Uhrzeit: 20:00 – 21:00 \nOrganisatorisches\n Wenig Teilnehmer – persönliches Lernumfeld.\n Online-Kurs per Zoom\n Kosten: 96 Euro \nAnmeldungen unter:  mi_pink0202@yahoo.co.jp oder per  WhatsApp 0172 3229619
URL:https://www.japan-stammtisch.de/veranstaltung/japanisch-anfaenger-kurs-mit-mizuki/
ATTACH;FMTTYPE=image/jpeg:https://www.japan-stammtisch.de/wp-content/uploads/japanisch-mit-mizuki.jpeg
END:VEVENT
END:VCALENDAR