BEGIN:VCALENDAR
VERSION:2.0
PRODID:-//Deutsch-Japanischer Stammtisch - ECPv6.15.18//NONSGML v1.0//EN
CALSCALE:GREGORIAN
METHOD:PUBLISH
X-WR-CALNAME:Deutsch-Japanischer Stammtisch
X-ORIGINAL-URL:https://www.japan-stammtisch.de
X-WR-CALDESC:Veranstaltungen für Deutsch-Japanischer Stammtisch
REFRESH-INTERVAL;VALUE=DURATION:PT1H
X-Robots-Tag:noindex
X-PUBLISHED-TTL:PT1H
BEGIN:VTIMEZONE
TZID:Europe/Berlin
BEGIN:DAYLIGHT
TZOFFSETFROM:+0100
TZOFFSETTO:+0200
TZNAME:CEST
DTSTART:20250330T010000
END:DAYLIGHT
BEGIN:STANDARD
TZOFFSETFROM:+0200
TZOFFSETTO:+0100
TZNAME:CET
DTSTART:20251026T010000
END:STANDARD
BEGIN:DAYLIGHT
TZOFFSETFROM:+0100
TZOFFSETTO:+0200
TZNAME:CEST
DTSTART:20260329T010000
END:DAYLIGHT
BEGIN:STANDARD
TZOFFSETFROM:+0200
TZOFFSETTO:+0100
TZNAME:CET
DTSTART:20261025T010000
END:STANDARD
BEGIN:DAYLIGHT
TZOFFSETFROM:+0100
TZOFFSETTO:+0200
TZNAME:CEST
DTSTART:20270328T010000
END:DAYLIGHT
BEGIN:STANDARD
TZOFFSETFROM:+0200
TZOFFSETTO:+0100
TZNAME:CET
DTSTART:20271031T010000
END:STANDARD
END:VTIMEZONE
BEGIN:VEVENT
DTSTART;VALUE=DATE:20260101
DTEND;VALUE=DATE:20260127
DTSTAMP:20260425T153301
CREATED:20260111T133004Z
LAST-MODIFIED:20260129T092714Z
UID:4412-1767225600-1769471999@www.japan-stammtisch.de
SUMMARY:Japanischer Kochkurs mit Mizuki
DESCRIPTION:Die Japanerin Mizuki aus Osaka kocht mit Euch in Eurer Küche original japanische Gerichte\, so wie sie Japaner auch zu Hause kochen.\nDie Alltagsgerichte können von Euch einfach nachgekocht werden mit Zutaten\, die man alle hier in Deutschland kaufen kann.\nDie Kurse können auch individuell nach Euren Wünschen angepasst werden! \nAnmeldungen unter:  mi_pink0202@yahoo.co.jp oder per  WhatsApp 0172 3229619 \n Dauer: ca. 2–3 Stunden\n Preise:\n 2 Personen: 100 € pro Person\n  3 Personen: 75 € pro Person\n  ab 4 Personen: 70 € pro Person \n Kurse\nWeitere Kurse sind nach Absprache auch möglich \nBento-Kurs\nThema: Japanische Bento-Kultur\n 🍗 Fleisch oder Lachs\n 🥦 Gemüse und Obst\n 🍳 Tamagoyaki (japanisches Omelett)\n 🍚 Reis \nNudel-Kurs\nThema: Hausgemachte\, authentische Tantanmen\n 🍜 Tantanmen (Nudelsuppe)\n 🥩 Sojafleisch oder Fleisch\n 🥬 Gemüse\n 🥚 Ei(er) \nGyoza-Kurs\nThema: Japanische Teigtaschen\n 🥟 Gyoza mit Fleisch oder Gemüse\n 🥬 Beilagen-Gemüse\n 🥣 Suppe oder Reis \nAnmeldungen unter:  mi_pink0202@yahoo.co.jp oder per  WhatsApp 0172 3229619
URL:https://www.japan-stammtisch.de/veranstaltung/japanischer-kochkurs-mit-mizuki/
ATTACH;FMTTYPE=image/png:https://www.japan-stammtisch.de/wp-content/uploads/Mizuki-Kochkurs-Landscape.png
END:VEVENT
BEGIN:VEVENT
DTSTART;TZID=Europe/Berlin:20260109T180000
DTEND;TZID=Europe/Berlin:20260109T180000
DTSTAMP:20260425T153301
CREATED:20260104T192500Z
LAST-MODIFIED:20260104T192632Z
UID:4409-1767981600-1767981600@www.japan-stammtisch.de
SUMMARY:Kino: INVISIBLE PEOPLE
DESCRIPTION:INVISIBLE PEOPLE ist ein experimenteller Dokumentarfilm über den japanischen Butoh-Tanz\, auch bekannt als „Tanz der Finsternis“. Diese avantgardistische Form des Ausdruckstanzes entstand in Japan nach dem Zweiten Weltkrieg und bewegt sich zwischen Aufbegehren\, Ritual und Meditation.  \nDer Film zeigt eindrucksvolle Porträts von Butoh-Meisterinnen und Performerinnen – darunter Yoshito Ōno\, Sohn des Butoh-Mitbegründers Kazuo Ōno\, der während der Dreharbeiten verstarb. „Der Film richtet den Blick auf das Verborgene“\, sagt Alisa Berger. „Ich wollte eine tranceartige Erfahrung schaffen\, die das Unsichtbare erfahrbar macht – das\, was zwischen den Dingen existiert.“
URL:https://www.japan-stammtisch.de/veranstaltung/kino-invisible-people-5/
LOCATION:Werkstattkino\, Fraunhoferstraße 9\, München\, 80469
ATTACH;FMTTYPE=image/png:https://www.japan-stammtisch.de/wp-content/uploads/invisible_people.png
END:VEVENT
BEGIN:VEVENT
DTSTART;VALUE=DATE:20260112
DTEND;VALUE=DATE:20260210
DTSTAMP:20260425T153301
CREATED:20250907T123746Z
LAST-MODIFIED:20250907T124227Z
UID:4315-1768176000-1770681599@www.japan-stammtisch.de
SUMMARY:Kurs: Klassischer japanischer Tanz/Kabuki
DESCRIPTION:Klassisch-japanischer Kabukitanz (Nihon-Buyo) stammt aus dem 17. Jahrhundert und ist eine erzählende Kunstform. Dargestellt werden z.B. historische und alltägliche Ereignisse\, Mythen\, Naturbilder sowie Gefühlsregungen. Kabuki zeichnet sich durch opulente Kostüme\, kunstvolles Make-up und raffinierte Verwendung von Requisiten (z.B. Fächer\, Blütenzweig\, Schwert) aus. Die angesehene Tanzkunst wurde auf die UNESCO-Liste des Immateriellen Kulturerbes der Menschheit aufgenommen. Sie ist körperlich nicht anstrengend und daher für jedes Alter geeignet. \n5 Termine 2026: 12.1\, 19.1\, 26.1\, 2.2\, 9.2 (jeweils ein Montag)\n19:00 – 20:30 Uhr
URL:https://www.japan-stammtisch.de/veranstaltung/kurs-klassischer-japanischer-tanz-kabuki/
LOCATION:VHS Am Hart\, Troppauer Str. 10\, München\, 80937
END:VEVENT
BEGIN:VEVENT
DTSTART;TZID=Europe/Berlin:20260112T200000
DTEND;TZID=Europe/Berlin:20260112T213000
DTSTAMP:20260425T153301
CREATED:20250921T145338Z
LAST-MODIFIED:20250921T145338Z
UID:4328-1768248000-1768253400@www.japan-stammtisch.de
SUMMARY:Reisevortrag: Zwischen Kirschblüten und Neonlicht – unterwegs in Japan
DESCRIPTION:Erleben Sie die faszinierende Vielfalt im Land der aufgehenden Sonne\, wo jahrhundertealte Traditionen auf Hightech treffen! Japan ist ein Reiseziel voller Kontraste – von atemberaubenden Landschaften über stille Tempelanlagen Kyotos und Schreinen in Nikko bis zur modernen Geschichte von Hiroshima und der pulsierenden Megastadt Tokyo. Entdecken Sie mit der Studienreiseleiterin Dr. Tanja Gouda die Schönheit der Kirschblüte\, die Tiefe der japanischen Kultur und die Dynamik einer hochmodernen Gesellschaft.
URL:https://www.japan-stammtisch.de/veranstaltung/reisevortrag-zwischen-kirschblueten-und-neonlicht-unterwegs-in-japan/
LOCATION:Bildungszentrum Einstein 28\, Einsteinstr. 28\, München\, 81675
END:VEVENT
BEGIN:VEVENT
DTSTART;TZID=Europe/Berlin:20260113T180000
DTEND;TZID=Europe/Berlin:20260113T210000
DTSTAMP:20260425T153301
CREATED:20260111T173529Z
LAST-MODIFIED:20260111T174312Z
UID:4436-1768327200-1768338000@www.japan-stammtisch.de
SUMMARY:HP8 Workshop: Kintsugi: Zerbrochene Keramik nach japanischer Tradition kleben
DESCRIPTION:Zerbrochen ist nicht kaputt\, Schönes liegt im Fehler und nicht in der Perfektion. Das ist das Motto des Kursabends. Der Lieblingsteller ist defekt? Kein Grund\, traurig zu sein. Sie fügen die Teile mit speziellem Kleber wieder zusammen und heben die Bruchstelle in Gold oder Silber hervor. \n(MVHS) V229700 \nTicketpreis\n€ 47\,00
URL:https://www.japan-stammtisch.de/veranstaltung/hp8-workshop-kintsugi-zerbrochene-keramik-nach-japanischer-tradition-kleben/
LOCATION:Gasteig – HP8\, Hans-Preißinger-Straße 8\, München\, 81379
END:VEVENT
BEGIN:VEVENT
DTSTART;TZID=Europe/Berlin:20260124T200000
DTEND;TZID=Europe/Berlin:20260124T200000
DTSTAMP:20260425T153301
CREATED:20260118T202735Z
LAST-MODIFIED:20260118T202744Z
UID:4490-1769284800-1769284800@www.japan-stammtisch.de
SUMMARY:Konzert Masako Otha Solo: In Dialogue…My Music Garden
DESCRIPTION:Masako Otha\nMasako Otha Solo: In Dialogue…My Music Garden\nFür die japanische Pianistin Masako Ohta ist ihr „Music Garden“ wie Humus\, der unser aller Leben nährt. Ohta verbindet Musik von Schubert\, Mozart\, Chopin\, Brahms\, Debussy\, Zimmermann und Cage mit zeitgenössischen japanischen Klängen von Hosokawa\, Fujieda und Yasuda zu einem poetischen Garten aus zarten und feinfühligen Klängen. „In Dialogue…“ spielt sie komponierte Stücke\, die sie um eine Improvisation ergänzt. Mit ihrem eigenen inneren Geschehen tritt sie in Dialog mit der Komposition. \nIhr drittes Soloalbum „My Music Garden“ ist im November 2025 bei Winter & Winter “ erschienen
URL:https://www.japan-stammtisch.de/veranstaltung/konzert-masako-otha-solo-in-dialoguemy-music-garden/
LOCATION:Schwere Reiter\, Dachauer Straße 114a\, 80797 München\, 80797
END:VEVENT
BEGIN:VEVENT
DTSTART;TZID=Europe/Berlin:20260130T190000
DTEND;TZID=Europe/Berlin:20260130T213000
DTSTAMP:20260425T153301
CREATED:20260111T172152Z
LAST-MODIFIED:20260111T172200Z
UID:4434-1769799600-1769808600@www.japan-stammtisch.de
SUMMARY:Japanische Filmreihe: Ein streunender Hund – Stray Dogs
DESCRIPTION:Im schwülheißen Sommer begibt sich der unerfahrene Inspektor Murakami (Toshirō Mifune) mit dem Kollegen Satō auf die Suche nach seiner gestohlenen Dienstwaffe. Er ist außer sich\, als diese Pistole dann bei einem Verbrechen benutzt wird. Japan 1949\, 122 Min.\, s/w\, Regie: Akira Kurosawa\, Buch: Ryūzō Kikushima\, Akira Kurosawa. (FSK 16) \nEine eindrucksvolle Milieustudie\, in der die unsagbare Hitze\, das zerbombte Tokyo des Jahres 1949\, der Nachkriegsalltag und der Überlebenskampf der Menschen allgegenwärtig ist. \nTicketpreis\n€ 7\,00; erm. € 5\,00
URL:https://www.japan-stammtisch.de/veranstaltung/japanische-filmreihe-ein-streunender-hund-stray-dogs/
LOCATION:Gasteig – HP8\, Hans-Preißinger-Straße 8\, München\, 81379
END:VEVENT
END:VCALENDAR