BEGIN:VCALENDAR
VERSION:2.0
PRODID:-//Deutsch-Japanischer Stammtisch - ECPv6.15.18//NONSGML v1.0//EN
CALSCALE:GREGORIAN
METHOD:PUBLISH
X-ORIGINAL-URL:https://www.japan-stammtisch.de
X-WR-CALDESC:Veranstaltungen für Deutsch-Japanischer Stammtisch
REFRESH-INTERVAL;VALUE=DURATION:PT1H
X-Robots-Tag:noindex
X-PUBLISHED-TTL:PT1H
BEGIN:VTIMEZONE
TZID:Europe/Berlin
BEGIN:DAYLIGHT
TZOFFSETFROM:+0100
TZOFFSETTO:+0200
TZNAME:CEST
DTSTART:20250330T010000
END:DAYLIGHT
BEGIN:STANDARD
TZOFFSETFROM:+0200
TZOFFSETTO:+0100
TZNAME:CET
DTSTART:20251026T010000
END:STANDARD
BEGIN:DAYLIGHT
TZOFFSETFROM:+0100
TZOFFSETTO:+0200
TZNAME:CEST
DTSTART:20260329T010000
END:DAYLIGHT
BEGIN:STANDARD
TZOFFSETFROM:+0200
TZOFFSETTO:+0100
TZNAME:CET
DTSTART:20261025T010000
END:STANDARD
BEGIN:DAYLIGHT
TZOFFSETFROM:+0100
TZOFFSETTO:+0200
TZNAME:CEST
DTSTART:20270328T010000
END:DAYLIGHT
BEGIN:STANDARD
TZOFFSETFROM:+0200
TZOFFSETTO:+0100
TZNAME:CET
DTSTART:20271031T010000
END:STANDARD
END:VTIMEZONE
BEGIN:VEVENT
DTSTART;VALUE=DATE:20260112
DTEND;VALUE=DATE:20260210
DTSTAMP:20260425T141348
CREATED:20250907T123746Z
LAST-MODIFIED:20250907T124227Z
UID:4315-1768176000-1770681599@www.japan-stammtisch.de
SUMMARY:Kurs: Klassischer japanischer Tanz/Kabuki
DESCRIPTION:Klassisch-japanischer Kabukitanz (Nihon-Buyo) stammt aus dem 17. Jahrhundert und ist eine erzählende Kunstform. Dargestellt werden z.B. historische und alltägliche Ereignisse\, Mythen\, Naturbilder sowie Gefühlsregungen. Kabuki zeichnet sich durch opulente Kostüme\, kunstvolles Make-up und raffinierte Verwendung von Requisiten (z.B. Fächer\, Blütenzweig\, Schwert) aus. Die angesehene Tanzkunst wurde auf die UNESCO-Liste des Immateriellen Kulturerbes der Menschheit aufgenommen. Sie ist körperlich nicht anstrengend und daher für jedes Alter geeignet. \n5 Termine 2026: 12.1\, 19.1\, 26.1\, 2.2\, 9.2 (jeweils ein Montag)\n19:00 – 20:30 Uhr
URL:https://www.japan-stammtisch.de/veranstaltung/kurs-klassischer-japanischer-tanz-kabuki/
LOCATION:VHS Am Hart\, Troppauer Str. 10\, München\, 80937
END:VEVENT
BEGIN:VEVENT
DTSTART;TZID=Europe/Berlin:20260212T200000
DTEND;TZID=Europe/Berlin:20260212T220000
DTSTAMP:20260425T141348
CREATED:20260118T201706Z
LAST-MODIFIED:20260118T201712Z
UID:4484-1770926400-1770933600@www.japan-stammtisch.de
SUMMARY:Konzert "Getsuyou"
DESCRIPTION:Getsuyou\nJazz Standards und japanische Pop-Hits? Für die Sängerin Tomoko und den Gitarristen und Keyboarder Ralf die perfekte Mischung. Mit ihrem Duo Getsuyou widmen sich die beiden den „schönsten Songs\, die je komponiert wurden“. Dabei kombinieren sie Fernöstliches\, Blues\, Swing und Bossa Nova\, angereichert mit Live Looping und elektronischen Sounds. Das Ergebnis ist genauso eingängig wie einzigartig. Ein Genuss für Pop- und Jazzfans gleichermaßen.
URL:https://www.japan-stammtisch.de/veranstaltung/konzert-getsuyou/
LOCATION:Kulturhaus Neuperlach\, Albert-Schweitzer-Straße 62\, 81735 München\, 81735
END:VEVENT
BEGIN:VEVENT
DTSTART;VALUE=DATE:20260216
DTEND;VALUE=DATE:20260219
DTSTAMP:20260425T141348
CREATED:20250921T144750Z
LAST-MODIFIED:20250921T145131Z
UID:4324-1771200000-1771459199@www.japan-stammtisch.de
SUMMARY:Ferienkurs: Moshi Moshi und Manga
DESCRIPTION:Japan-Tage für Jugendliche ab 12 Jahre \nIhr begeistert euch für Japan\, seid kreativ und offen für Neues? Dann lernt an drei Tagen die ferne japanische Kultur näher kennen. Ein Comicprofi zeigt euch die wichtigsten Grundlagen des Zeichnens für eigene Mangas: von Anatomie bis hin zu Perspektive und Layout. Entdeckt gemeinsam die Besonderheiten der – wie man in Japan auch sagt – „komikusu“. Natürlich darf auch ein Einblick in die japanische Sprache nicht fehlen. Ihr lernt die Silbenschrift Katakana kennen und werdet nach dem Kurs eure ersten drei Sätze auf Japanisch sprechen können. Überlegt euch doch schon mal\, welchen Satz ihr lernen wollt… \nTermine:\nMontag\, 16.02.2026 bis Mittwoch\, 18.2.2026\, jeweils 10:00 – 15:00 Uhr
URL:https://www.japan-stammtisch.de/veranstaltung/ferienkurs-moshi-moshi-und-manga/
LOCATION:Bildungszentrum Einstein 28\, Einsteinstr. 28\, München\, 81675
END:VEVENT
BEGIN:VEVENT
DTSTART;TZID=Europe/Berlin:20260220T193000
DTEND;TZID=Europe/Berlin:20260221T193000
DTSTAMP:20260425T141348
CREATED:20260118T190704Z
LAST-MODIFIED:20260118T191248Z
UID:4474-1771615800-1771702200@www.japan-stammtisch.de
SUMMARY:Konzert Kodo One Earth Tour 2026
DESCRIPTION:Jedes Jahr verlassen die japanischen Trommel-Virtuosen der Gruppe Kodo ihre abgeschiedene Insel Sado\, um auf den legendären Tourneen die Konzertsäle Asiens\, der USA und Europas zum Vibrieren zu bringen. Tief verwurzelt in der uralten Taiko-Trommeltradition wird ihre mitreißende Sprache überall verstanden. Denn Kodo ist Rhythmus\, Kraft und Energie. \nDas legendäre japanische Trommelensemble ist atemberaubend schnell und geschickt\, umwerfend virtuos und präzise\, verblüffend melodisch – und enorm athletisch. Die Mitglieder der Truppe beherrschen eine Kunst\, die so alt und faszinierend ist wie die traditionelle japanische Schwertkunst oder die Kunst des Bogenschießens. Mit muskelbepackten Armen bringen die Teufelstrommler ihre riesigen Baumtrommeln zum Schwingen\, Dröhnen und Toben und erzeugen einen Klang\, der sich unaufhaltsam seinen Weg bahnt. Ein durch und durch sinnliches und physisches Erlebnis\, das sich auf die Zuhörer überträgt\, sie zum Staunen und Träumen einlädt.
URL:https://www.japan-stammtisch.de/veranstaltung/konzert-kodo-one-earth-tour-2026/
LOCATION:Gasteig – HP8\, Hans-Preißinger-Straße 8\, München\, 81379
END:VEVENT
BEGIN:VEVENT
DTSTART;TZID=Europe/Berlin:20260224T200000
DTEND;TZID=Europe/Berlin:20260224T213000
DTSTAMP:20260425T141348
CREATED:20260111T170830Z
LAST-MODIFIED:20260111T170903Z
UID:4431-1771963200-1771968600@www.japan-stammtisch.de
SUMMARY:Vortrag: Was Sie schon immer über Japan wissen wollten
DESCRIPTION:Planen Sie eine Reise nach Japan? Sind Sie geschäftlich in Japan unterwegs? Oder interessieren Sie sich einfach für Land und Leute? Der Japanologe Dr. Paulus Kaufmann vermittelt erste Eindrücke von einem Land\, das uns zugleich nah und fern ist. Wir schauen in die großen Städte Tokyo und Osaka\, in die alten Kaiserstädte Nara und Kyoto\, aber auch in ländliche Regionen\, wo die Uhren noch etwas anders ticken. Neben touristischen Attraktionen und landeskundlichen Informationen kommen auch einige Probleme der japanischen Gesellschaft zur Sprache. \nGebühr: 9\,00€
URL:https://www.japan-stammtisch.de/veranstaltung/vortrag-was-sie-schon-immer-ueber-japan-wissen-wollten-4/
LOCATION:Bildungszentrum Einstein 28\, Einsteinstr. 28\, München\, 81675
END:VEVENT
BEGIN:VEVENT
DTSTART;TZID=Europe/Berlin:20260227T190000
DTEND;TZID=Europe/Berlin:20260227T210000
DTSTAMP:20260425T141348
CREATED:20260118T182836Z
LAST-MODIFIED:20260201T094127Z
UID:4461-1772218800-1772226000@www.japan-stammtisch.de
SUMMARY:Japanische Filmreihe 2026 „Mondays: See You 'This' Week!“
DESCRIPTION:Akemi stellt fest\, dass ihr gesamtes Büro in einer Zeitschleife derselben Woche gefangen ist. Gemeinsam mit ihren Kollegen muss sie herausfinden\, wie man den Kreis durchbrechen kann.\nJapan 2022\, SF-Komödie\, 82 Min.\, OmdtU.\nRegie: Takebayashi Ryo\,\nBuch: Natsuo Saeri\, Takebayashi Ry
URL:https://www.japan-stammtisch.de/veranstaltung/japanische-filmreihe-2026-mondays-see-you-this-week/
LOCATION:Gasteig – HP8\, Hans-Preißinger-Straße 8\, München\, 81379
END:VEVENT
END:VCALENDAR