BEGIN:VCALENDAR
VERSION:2.0
PRODID:-//Deutsch-Japanischer Stammtisch - ECPv6.15.18//NONSGML v1.0//EN
CALSCALE:GREGORIAN
METHOD:PUBLISH
X-WR-CALNAME:Deutsch-Japanischer Stammtisch
X-ORIGINAL-URL:https://www.japan-stammtisch.de
X-WR-CALDESC:Veranstaltungen für Deutsch-Japanischer Stammtisch
REFRESH-INTERVAL;VALUE=DURATION:PT1H
X-Robots-Tag:noindex
X-PUBLISHED-TTL:PT1H
BEGIN:VTIMEZONE
TZID:Europe/Berlin
BEGIN:DAYLIGHT
TZOFFSETFROM:+0100
TZOFFSETTO:+0200
TZNAME:CEST
DTSTART:20250330T010000
END:DAYLIGHT
BEGIN:STANDARD
TZOFFSETFROM:+0200
TZOFFSETTO:+0100
TZNAME:CET
DTSTART:20251026T010000
END:STANDARD
BEGIN:DAYLIGHT
TZOFFSETFROM:+0100
TZOFFSETTO:+0200
TZNAME:CEST
DTSTART:20260329T010000
END:DAYLIGHT
BEGIN:STANDARD
TZOFFSETFROM:+0200
TZOFFSETTO:+0100
TZNAME:CET
DTSTART:20261025T010000
END:STANDARD
BEGIN:DAYLIGHT
TZOFFSETFROM:+0100
TZOFFSETTO:+0200
TZNAME:CEST
DTSTART:20270328T010000
END:DAYLIGHT
BEGIN:STANDARD
TZOFFSETFROM:+0200
TZOFFSETTO:+0100
TZNAME:CET
DTSTART:20271031T010000
END:STANDARD
END:VTIMEZONE
BEGIN:VEVENT
DTSTART;TZID=Europe/Berlin:20260312T190000
DTEND;TZID=Europe/Berlin:20260312T190000
DTSTAMP:20260425T130233
CREATED:20260118T202417Z
LAST-MODIFIED:20260128T164157Z
UID:4487-1773342000-1773342000@www.japan-stammtisch.de
SUMMARY:Shibori färben – Grundlagen – DIY Workshop
DESCRIPTION:Shibori färben – Grundlagen – DIY Workshop\nTauche ein in die faszinierende Welt des Shibori\, der traditionellen japanischen Färbetechnik! In unserem Workshop lernst du die Grundlagen dieser kunstvollen Handwerkskunst kennen und probierst verschiedene Techniken selbst aus. \nJeder Teilnehmer gestaltet und färbt seinen eigenen Jutebeutel – ein echtes Unikat! Du kannst auch gern dein eigenes Textil mitbringen\, z. B. ein Shirt\, Geschirrtuch oder andere Stoffe\, oder vor Ort passende Textilien erwerben. Bei deinem selbst mitgebrachten Textil\, achte darauf\, dass es sich um Naturstoffe handelt\, zB 100% Baumwolle – chemische Fasern nehmen die natürlichen Farben meist schlecht an. \nFür eine entspannte Atmosphäre sorgen Tee und Kaffee\, die im Kurs inklusive sind. Kittel sind im Atelier verfügbar\, komme aber gerne in Klamotten\, denen ein Farbspritzer nichts ausmachen! \nPerfekt für alle\, die kreativ werden und neue traditionelle Handwerkstechniken ausprobieren möchten!
URL:https://www.japan-stammtisch.de/veranstaltung/shibori-faerben-grundlagen-diy-workshop/
LOCATION:atorie アトリエ\, Neureutherstr. 19\, 80799 München\, 80799
END:VEVENT
BEGIN:VEVENT
DTSTART;TZID=Europe/Berlin:20260313T190000
DTEND;TZID=Europe/Berlin:20260313T210000
DTSTAMP:20260425T130233
CREATED:20260118T184009Z
LAST-MODIFIED:20260201T094039Z
UID:4465-1773428400-1773435600@www.japan-stammtisch.de
SUMMARY:Japanische Filmreihe 2026 „Summer Blooms“
DESCRIPTION:Nach dem Tod ihres Freundes hat sich die ehemalige Lehrerin Hatsumi zurückgezogen und hält sich mit einem Teilzeitjob in einem Nudelsuppen-Laden über Wasser. Dann holt sie die Vergangenheit\, vor der sie geflohen ist\, wieder ein.\nJapan 2017\, 93 Min.\, OmdtU.\nRegie: Nakagawa Ryūtarō\,\nBuch: Nakagawa Ryūtarō\, Yoshino Ryohei \nEine ruhige\, berührende Geschichte über den Umgang mit Verlust\, die an die goldene Ära des japanischen Kinos in den 1950er Jahren erinnert. Preisgekrönt.
URL:https://www.japan-stammtisch.de/veranstaltung/japanische-filmreihe-2026-summer-blooms/
LOCATION:Gasteig – HP8\, Hans-Preißinger-Straße 8\, München\, 81379
END:VEVENT
BEGIN:VEVENT
DTSTART;VALUE=DATE:20260317
DTEND;VALUE=DATE:20260322
DTSTAMP:20260425T130233
CREATED:20260221T154022Z
LAST-MODIFIED:20260222T104352Z
UID:4516-1773705600-1774137599@www.japan-stammtisch.de
SUMMARY:Ausstellung: 土 Dō – Der Weg des Tons
DESCRIPTION:Dō – der Weg des Tons beschreibt keinen Bruch\, sondern einen Prozess.\nZeitgenössische japanische Keramiker erkunden ausgehend vom funktionalen Gefäß den Übergang zur freien Form – von der Teeschale zur Skulptur\, vom Handwerk zur Kunst. \nMit ausgewählten Arbeiten von\nHayashi Yuka · Tao Akira · Sawa Katsunori · Tanimoto Takashi · Ishida Kazuya \nVernissage 18.3.2026 ab 18h \nÖffnungszeiten:\nDienstag-Freitag 13:00-18:30\nSamstag 10:00-13:00 \nOrganisiert von KINTEI Sense\, Galerie für Japanische Keramik
URL:https://www.japan-stammtisch.de/veranstaltung/ausstellung-%e5%9c%9f-do-der-weg-des-tons/
LOCATION:Werkstatt Galerie\, Zentnerstrasse 3\, München\, München\, 80798
END:VEVENT
BEGIN:VEVENT
DTSTART;TZID=Europe/Berlin:20260319T193000
DTEND;TZID=Europe/Berlin:20260319T223000
DTSTAMP:20260425T130233
CREATED:20260118T200825Z
LAST-MODIFIED:20260118T201219Z
UID:4477-1773948600-1773959400@www.japan-stammtisch.de
SUMMARY:Konzert : Kokubu – The Drums of Japan
DESCRIPTION:Infinity Tour 2026 \nAtemberaubend – Spirituell – Archaisch – Athletisch \nKokubu eine der weltweit bekanntesten Taiko-Trommelgruppen geht 2026 wieder auf große Deutschlandtournee und setzt nach ihren umjubelten Tourneen der vergangenen Jahre mit ihrer aktuellen Show „Infinity“ neue Aktzente. \nMit donnernden Rhythmen\, atemberaubender Präzision\, beeindruckender Synchronität und purer Energie entführt Kokubu das Publikum in die Seele Japans. Die perfekte Fusion aus jahrhundertealter Tradition und packender moderner Performance. Jeder Schlag ein Beben\, jede Bewegung eine Sensation. \nDie Ausnahmekünstler an den mächtigen Taiko-Trommeln sind nicht nur Virtuosen auf ihren Instrumenten\, sondern auch Meister der Inszenierung\, die mit spektakulären Choreografien und beeindruckenden Lichteffekten eine magische Atmosphäre schaffen. \nKokubu ist eine der bekanntesten Taiko-Trommelgruppen weltweit. Mit ihrer beeindruckenden Darbietung ermöglicht Kokubu tiefe Einblicke in die japanische Kultur. Ihr Markenzeichen ist die perfekte Symbiose von traditionellem Handwerk und modernem Entertainment\, die Zuschauer jeden Alters begeistert. Zum Ensemble gehören neben Shakuhachi-Meister Chiaki Toyama auch der Weltmeister auf dem dreiseitigen Zupfinstrument Tsugaru-Shamisen\, Masamitsu Takasaki\, sowie Karin Toyama – Gesang und an der Koto. Eine besondere Qualität erfährt die Show durch ein faszinierendes neues Element – die ausdrucksstarke Tänzerin. \n„Wenn wir spielen\, wollen wir nicht nur gehört\, sondern gespürt werden – in der Brust\, im Herzen\, in der Seele.“ (Chiaki Toyama\, Ensembleleiter & Shakuhachi-Meister) \nMit „Infinity“ beginnt für Kokubu eine neue Ära – eine\, die das Publikum auf eine faszinierende Reise in die Tiefe japanischer Spiritualität\, Rhythmik und Ästhetik entführt. Kraftvolle Taiko-Trommeln\, die den Boden beben lassen\, flirrende Flötentöne und ein Ensemble\, das mit absoluter Präzision und Hingabe musiziert\, machen die neue Show zu einem unvergesslichen Erlebnis für alle Sinne. \n„Infinity“ entführt das Publikum in eine aufregende Reise zu den Göttern Japans. Die mächtigste unter ihnen ist Amaterasu Omikami\, die Sonnengöttin. Sie wird im heiligen Ise-Schrein verehrt – und ihr Licht gilt als Ursprung aller Lebenskraft. Es ist dieses göttliche Leuchten\, das sich wie ein energetischer Strom durch das neue Programm „Infinity“ zieht. Die Geschichten der Götter – überliefert im „Kojiki“\, dem ältesten mythologischen Werk Japans – bilden den Kern der Show. Das Ensemble von kokubu erweckt diese Mythen mit pulsierenden Rhythmen\, hypnotischen Tänzen und meisterhafter Musik zum Leben. \nZarte Bambusflöten und meditative Momente entführen in eine andere Welt – nur um im nächsten Augenblick von donnernden Taiko-Trommeln durchbrochen zu werden\, deren Rhythmus zur Sprache der Götter wird.
URL:https://www.japan-stammtisch.de/veranstaltung/konzert-kokubu-the-drums-of-japan/
LOCATION:Bürgerhaus Garching\, Bürgerplatz 9\, Garching bei München\, 85748
END:VEVENT
BEGIN:VEVENT
DTSTART;TZID=Europe/Berlin:20260320T183000
DTEND;TZID=Europe/Berlin:20260320T223000
DTSTAMP:20260425T130233
CREATED:20260118T203757Z
LAST-MODIFIED:20260224T190842Z
UID:4495-1774031400-1774045800@www.japan-stammtisch.de
SUMMARY:Konzert: Kikuoland: Above All Bounds World Tour 2026
DESCRIPTION:Kikuo\nKikuoland: Above All Bounds World Tour 2026\nDer japanische Elektronik-Künstler Kikuo geht 2026 erneut auf große Welttournee und bringt mit Kikuoland: Above All Bounds sein einzigartiges Klanguniversum zurück auf die Bühnen der Welt. Nach dem überwältigenden Erfolg seiner ersten Tour\, die ihn mit 41 Konzerten in 19 Länder führte und vielfach ausverkauft war\, kehrt der Ausnahmekünstler nun zurück. Für die neue Tour kommt er für drei exklusive Shows nach Deutschland. Tickets im exklusiven Eventim Pre-Sale gibt es ab Mittwoch\, 29. Oktober\, ab 11:00 Uhr\, bei eventim.de und ab Freitag\, 31. Oktober\, ab 11:00 Uhr\, an allen bekannten Vorverkaufsstellen. \nKikuo ist ein visionärer Produzent\, der seit über zwei Jahrzehnten mit seinem unverwechselbaren Stil die elektronische Musikszene prägt. Seine Werke verbinden dunkle\, oft verstörende Themen mit verspielten\, eingängigen Melodien und schaffen so ein Klangbild\, das zugleich faszinierend\, emotional und hypnotisch wirkt. Seit seinen Anfängen im Jahr 2003 hat Kikuo mit seiner Kombination aus experimentellen Soundeffekten\, komplexen Harmonien und Vocaloid-Stimmen eine ganz eigene Ästhetik geschaffen. Besonders durch den Einsatz von Hatsune Miku wurde er zu einer Schlüsselfigur der internationalen Vocaloid- Szene. \nMit Hits wie „Gomenne\, Gomenne“\, „Kimi Wa Dekinai Ko“ und dem Megahit „Aishite\, Aishite\, Aishite“\, der als erster Vocaloid-Song die Marke von 100 Millionen Streams auf Spotify überschritt\, hat sich Kikuo weltweit einen Namen gemacht. Im Laufe seiner Karriere veröffentlichte er über 600 Songs und arbeitete mit zahlreichen Künstler:innen und Vocaloid-Produzenten zusammen\, darunter Hanatan\, CosMo\, Mizutama und Yagani Nagi. Seine Musik überschreitet Genregrenzen\, von elektronischer Experimentalmusik über Pop bis zu atmosphärischen Soundscapes und bleibt dabei stets unverkennbar. \nIm Jahr 2024 schrieb Kikuo Musikgeschichte als erster Vocaloid-Produzent\, der eine vollständige Welttournee realisierte. Die Kikuoland: Go-Round – Tour führte ihn durch Japan\, China\, Nord- und Südamerika\, Australien und Europa. Im selben Jahr erhielt seine virtuelle Welt „Yorutouge“ den Exzellenzpreis in der Kategorie VR bei den Lumiere Japan Awards\, was seine Innovationskraft auch im digitalen Raum unterstreicht. Mit seiner neuen Single „Rainborn Menoko“\, die am 22. Oktober erschien\, schlägt Kikuo nun das nächste Kapitel seiner Karriere auf. Der Song verbindet verträumte Melodien mit tief emotionalen Untertönen und bietet einen Vorgeschmack auf das\, was Fans auf der kommenden Tour erwartet. \nEin Konzert von Kikuo ist mehr als nur Musik\, es ist ein audiovisuelles Erlebnis\, das das Publikum in eine surreale Traumwelt zwischen Licht und Schatten entführt. Seine Shows vereinen fesselnde Visuals\, detailreiche Sounddesigns und die charakteristische Mischung aus Sanftheit und Abgründigkeit\, für die er weltweit gefeiert wird. Wer sich für experimentelle Elektronik\, visuelle Kunst und die Faszination des Unerwarteten begeistert\, darf Kikuo 2026 live keinesfalls verpassen. \nMeet&Greet Einlass: 18:00h \nEinlass regulär: 19:00h
URL:https://www.japan-stammtisch.de/veranstaltung/konzert-kikuoland-above-all-bounds-world-tour-2026/
LOCATION:Backstage\, Reitknechtstrasse 6\, München\, 80639
END:VEVENT
BEGIN:VEVENT
DTSTART;TZID=Europe/Berlin:20260327T190000
DTEND;TZID=Europe/Berlin:20260327T210000
DTSTAMP:20260425T130233
CREATED:20260118T184413Z
LAST-MODIFIED:20260201T094011Z
UID:4467-1774638000-1774645200@www.japan-stammtisch.de
SUMMARY:Japanische Filmreihe 2026 „Black Box Diaries"
DESCRIPTION:Nach einem Geschäftsessen im Jahre 2015 vergewaltigt ein Kollege die Journalistin Itō Shiori. Als sie den Vorfall öffentlich macht\, stößt sie auf erdrückende Widerstände v.a. aus Kreisen der Politik.\nJapan/USA/UK 2024\, Doku\, 102 Min.\, OmeU.\nRegie: Itō Shiori \nDie Dokumentation thematisiert die Lücke zwischen der gesellschaftlichen Situation im modernen Japan und einer veralteten Gesetzgebung. Der Film wurde auf zahlreichen Filmfestivals ausgezeichnet und 2025 für den Oscar nominiert.
URL:https://www.japan-stammtisch.de/veranstaltung/japanische-filmreihe-2026-black-box-diaries/
LOCATION:Gasteig – HP8\, Hans-Preißinger-Straße 8\, München\, 81379
END:VEVENT
END:VCALENDAR